Workbook

Sheet Start Here
A1: TapeAndFloat Lease Expiration & Renewal Tracker (free)
A3: For small landlords and property managers. One row per lease: end date, the notice period written in that lease, and every renewal step.
A5: 1. Add a row per lease: property, unit, tenant, start and end dates, current rent and what the lease says happens at the end.
A6: 2. Copy the notice period (in days) from each signed lease into 'Notice days in lease'. The tracker never assumes a number for you.
A7: 3. The tracker works back from the end date: Notice deadline = end date - notice days; Decide by = notice deadline - your decision lead time;
A8: Reminder = decide-by date - your reminder lead time (both lead times are on the Settings sheet).
A9: 4. Record your decision (renew, renew at a new rent, or end), the date you sent the written offer or notice, the tenant's answer,
A10: and the date the renewal was signed with the new end date.
A11: Red = the notice deadline passed with nothing sent, or the lease is past its end date with no renewal signed and no decision to end it.
A12: Yellow = something to do (decide now, decide soon, follow up an unanswered offer, accepted but not signed, missing notice days or new end date).
A13: Green = renewed and signed, nothing to check.
A15: Tip: look at this list on the 1st of every month. Every lease ending in the next 90 days should already have a decision.
... A22: Summary (updates automatically)
A23: Leases ending in the next 90 days, not renewed | B23: =COUNTIFS('Leases'!$E$2:$E$300,">="&TODAY(),'Leases'!$E$2:$E$300,"<="&(TODAY()+90),'Leases'!$Q$2:$Q$300,"")
A24: Decide now | B24: =COUNTIF('Leases'!$U$2:$U$300,"*DECIDE NOW*")
A25: Notice deadline passed, nothing sent | B25: =COUNTIF('Leases'!$U$2:$U$300,"*NOTICE DEADLINE PASSED - NOTHING SENT*")
A26: Past end date, not renewed | B26: =COUNTIF('Leases'!$U$2:$U$300,"*PAST END DATE - NOT RENEWED*")
A27: Offer sent, follow up (no answer) | B27: =COUNTIF('Leases'!$U$2:$U$300,"*FOLLOW UP - NO ANSWER*")
A28: Accepted, not signed yet | B28: =COUNTIF('Leases'!$U$2:$U$300,"*ACCEPTED - NOT SIGNED*")
A29: Missing notice days | B29: =COUNTIF('Leases'!$U$2:$U$300,"*ENTER NOTICE DAYS*")
A30: Renewed and signed | B30: =COUNTIF('Leases'!$T$2:$T$300,"RENEWED")
A32: Free to use and share. No warranty; general information, not legal advice. Notice rules vary by lease and state; follow your signed lease and local law.

Sheet Leases
A1: Property / address | B1: Unit | C1: Tenant | D1: Lease start | E1: Lease end | F1: Current rent $ | G1: At the end the lease... | H1: Notice days in lease | I1: Notice deadline | J1: Decide by | K1: Reminder | L1: Decision | M1: New rent offered $ | N1: Offer / notice sent (date) | O1: Tenant answer | P1: Answer date | Q1: Renewal signed (date) | R1: New end date | S1: Days until end | T1: Status | U1: Flag | V1: Notes
I2: =IF(OR(E2="",H2=""),"",E2-H2) | J2: =IF(I2="","",I2-'Settings'!$B$2) | K2: =IF(J2="","",J2-'Settings'!$B$3) | S2: =IF(OR(E2="",Q2<>""),"",E2-TODAY()) | T2: =IF(E2="","",IF(Q2<>"","RENEWED",IF(L2="End","ENDING",IF(N2<>"","OFFER SENT",IF(AND(J2<>"",TODAY()>=J2),"DECIDE NOW","OK"))))) | U2: =IF(E2="","",IF(IF(AND(I2<>"",TODAY()>I2,N2="",Q2=""),"NOTICE DEADLINE PASSED - NOTHING SENT; ","")&IF(AND(TODAY()>E2,Q2="",L2<>"End"),"PAST END DATE - NOT RENEWED; ","")&IF(AND(J2<>"",TODAY()>=J2,OR(L2="",L2="Undecided"),N2="",Q2=""),"DECIDE NOW; ","")&IF(AND(K2<>"",TODAY()>=K2,TODAY()<J2,OR(L2="",L2="Undecided"),Q2=""),"DECIDE SOON; ","")&IF(AND(N2<>"",OR(O2="",O2="No answer"),Q2="",L2<>"End",I2<>"",TODAY()>=N(I2)-'Settings'!$B$4),"FOLLOW UP - NO ANSWER; ","")&IF(AND(O2="Accepted",Q2=""),"ACCEPTED - NOT SIGNED; ","")&IF(AND(H2="",Q2=""),"ENTER NOTICE DAYS; ","")&IF(AND(Q2<>"",R2=""),"ENTER NEW END DATE; ","")="","",LEFT(IF(AND(I2<>"",TODAY()>I2,N2="",Q2=""),"NOTICE DEADLINE PASSED - NOTHING SENT; ","")&IF(AND(TODAY()>E2,Q2="",L2<>"End"),"PAST END DATE - NOT RENEWED; ","")&IF(AND(J2<>"",TODAY()>=J2,OR(L2="",L2="Undecided"),N2="",Q2=""),"DECIDE NOW; ","")&IF(AND(K2<>"",TODAY()>=K2,TODAY()<J2,OR(L2="",L2="Undecided"),Q2=""),"DECIDE SOON; ","")&IF(AND(N2<>"",OR(O2="",O2="No answer"),Q2="",L2<>"End",I2<>"",TODAY()>=N(I2)-'Settings'!$B$4),"FOLLOW UP - NO ANSWER; ","")&IF(AND(O2="Accepted",Q2=""),"ACCEPTED - NOT SIGNED; ","")&IF(AND(H2="",Q2=""),"ENTER NOTICE DAYS; ","")&IF(AND(Q2<>"",R2=""),"ENTER NEW END DATE; ",""),LEN(IF(AND(I2<>"",TODAY()>I2,N2="",Q2=""),"NOTICE DEADLINE PASSED - NOTHING SENT; ","")&IF(AND(TODAY()>E2,Q2="",L2<>"End"),"PAST END DATE - NOT RENEWED; ","")&IF(AND(J2<>"",TODAY()>=J2,OR(L2="",L2="Undecided"),N2="",Q2=""),"DECIDE NOW; ","")&IF(AND(K2<>"",TODAY()>=K2,TODAY()<J2,OR(L2="",L2="Undecided"),Q2=""),"DECIDE SOON; ","")&IF(AND(N2<>"",OR(O2="",O2="No answer"),Q2="",L2<>"End",I2<>"",TODAY()>=N(I2)-'Settings'!$B$4),"FOLLOW UP - NO ANSWER; ","")&IF(AND(O2="Accepted",Q2=""),"ACCEPTED - NOT SIGNED; ","")&IF(AND(H2="",Q2=""),"ENTER NOTICE DAYS; ","")&IF(AND(Q2<>"",R2=""),"ENTER NEW END DATE; ",""))-2)))
I3: =IF(OR(E3="",H3=""),"",E3-H3) | J3: =IF(I3="","",I3-'Settings'!$B$2) | K3: =IF(J3="","",J3-'Settings'!$B$3) | S3: =IF(OR(E3="",Q3<>""),"",E3-TODAY()) | T3: =IF(E3="","",IF(Q3<>"","RENEWED",IF(L3="End","ENDING",IF(N3<>"","OFFER SENT",IF(AND(J3<>"",TODAY()>=J3),"DECIDE NOW","OK"))))) | U3: =IF(E3="","",IF(IF(AND(I3<>"",TODAY()>I3,N3="",Q3=""),"NOTICE DEADLINE PASSED - NOTHING SENT; ","")&IF(AND(TODAY()>E3,Q3="",L3<>"End"),"PAST END DATE - NOT RENEWED; ","")&IF(AND(J3<>"",TODAY()>=J3,OR(L3="",L3="Undecided"),N3="",Q3=""),"DECIDE NOW; ","")&IF(AND(K3<>"",TODAY()>=K3,TODAY()<J3,OR(L3="",L3="Undecided"),Q3=""),"DECIDE SOON; ","")&IF(AND(N3<>"",OR(O3="",O3="No answer"),Q3="",L3<>"End",I3<>"",TODAY()>=N(I3)-'Settings'!$B$4),"FOLLOW UP - NO ANSWER; ","")&IF(AND(O3="Accepted",Q3=""),"ACCEPTED - NOT SIGNED; ","")&IF(AND(H3="",Q3=""),"ENTER NOTICE DAYS; ","")&IF(AND(Q3<>"",R3=""),"ENTER NEW END DATE; ","")="","",LEFT(IF(AND(I3<>"",TODAY()>I3,N3="",Q3=""),"NOTICE DEADLINE PASSED - NOTHING SENT; ","")&IF(AND(TODAY()>E3,Q3="",L3<>"End"),"PAST END DATE - NOT RENEWED; ","")&IF(AND(J3<>"",TODAY()>=J3,OR(L3="",L3="Undecided"),N3="",Q3=""),"DECIDE NOW; ","")&IF(AND(K3<>"",TODAY()>=K3,TODAY()<J3,OR(L3="",L3="Undecided"),Q3=""),"DECIDE SOON; ","")&IF(AND(N3<>"",OR(O3="",O3="No answer"),Q3="",L3<>"End",I3<>"",TODAY()>=N(I3)-'Settings'!$B$4),"FOLLOW UP - NO ANSWER; ","")&IF(AND(O3="Accepted",Q3=""),"ACCEPTED - NOT SIGNED; ","")&IF(AND(H3="",Q3=""),"ENTER NOTICE DAYS; ","")&IF(AND(Q3<>"",R3=""),"ENTER NEW END DATE; ",""),LEN(IF(AND(I3<>"",TODAY()>I3,N3="",Q3=""),"NOTICE DEADLINE PASSED - NOTHING SENT; ","")&IF(AND(TODAY()>E3,Q3="",L3<>"End"),"PAST END DATE - NOT RENEWED; ","")&IF(AND(J3<>"",TODAY()>=J3,OR(L3="",L3="Undecided"),N3="",Q3=""),"DECIDE NOW; ","")&IF(AND(K3<>"",TODAY()>=K3,TODAY()<J3,OR(L3="",L3="Undecided"),Q3=""),"DECIDE SOON; ","")&IF(AND(N3<>"",OR(O3="",O3="No answer"),Q3="",L3<>"End",I3<>"",TODAY()>=N(I3)-'Settings'!$B$4),"FOLLOW UP - NO ANSWER; ","")&IF(AND(O3="Accepted",Q3=""),"ACCEPTED - NOT SIGNED; ","")&IF(AND(H3="",Q3=""),"ENTER NOTICE DAYS; ","")&IF(AND(Q3<>"",R3=""),"ENTER NEW END DATE; ",""))-2)))
I4: =IF(OR(E4="",H4=""),"",E4-H4) | J4: =IF(I4="","",I4-'Settings'!$B$2) | K4: =IF(J4="","",J4-'Settings'!$B$3) | S4: =IF(OR(E4="",Q4<>""),"",E4-TODAY()) | T4: =IF(E4="","",IF(Q4<>"","RENEWED",IF(L4="End","ENDING",IF(N4<>"","OFFER SENT",IF(AND(J4<>"",TODAY()>=J4),"DECIDE NOW","OK"))))) | U4: =IF(E4="","",IF(IF(AND(I4<>"",TODAY()>I4,N4="",Q4=""),"NOTICE DEADLINE PASSED - NOTHING SENT; ","")&IF(AND(TODAY()>E4,Q4="",L4<>"End"),"PAST END DATE - NOT RENEWED; ","")&IF(AND(J4<>"",TODAY()>=J4,OR(L4="",L4="Undecided"),N4="",Q4=""),"DECIDE NOW; ","")&IF(AND(K4<>"",TODAY()>=K4,TODAY()<J4,OR(L4="",L4="Undecided"),Q4=""),"DECIDE SOON; ","")&IF(AND(N4<>"",OR(O4="",O4="No answer"),Q4="",L4<>"End",I4<>"",TODAY()>=N(I4)-'Settings'!$B$4),"FOLLOW UP - NO ANSWER; ","")&IF(AND(O4="Accepted",Q4=""),"ACCEPTED - NOT SIGNED; ","")&IF(AND(H4="",Q4=""),"ENTER NOTICE DAYS; ","")&IF(AND(Q4<>"",R4=""),"ENTER NEW END DATE; ","")="","",LEFT(IF(AND(I4<>"",TODAY()>I4,N4="",Q4=""),"NOTICE DEADLINE PASSED - NOTHING SENT; ","")&IF(AND(TODAY()>E4,Q4="",L4<>"End"),"PAST END DATE - NOT RENEWED; ","")&IF(AND(J4<>"",TODAY()>=J4,OR(L4="",L4="Undecided"),N4="",Q4=""),"DECIDE NOW; ","")&IF(AND(K4<>"",TODAY()>=K4,TODAY()<J4,OR(L4="",L4="Undecided"),Q4=""),"DECIDE SOON; ","")&IF(AND(N4<>"",OR(O4="",O4="No answer"),Q4="",L4<>"End",I4<>"",TODAY()>=N(I4)-'Settings'!$B$4),"FOLLOW UP - NO ANSWER; ","")&IF(AND(O4="Accepted",Q4=""),"ACCEPTED - NOT SIGNED; ","")&IF(AND(H4="",Q4=""),"ENTER NOTICE DAYS; ","")&IF(AND(Q4<>"",R4=""),"ENTER NEW END DATE; ",""),LEN(IF(AND(I4<>"",TODAY()>I4,N4="",Q4=""),"NOTICE DEADLINE PASSED - NOTHING SENT; ","")&IF(AND(TODAY()>E4,Q4="",L4<>"End"),"PAST END DATE - NOT RENEWED; ","")&IF(AND(J4<>"",TODAY()>=J4,OR(L4="",L4="Undecided"),N4="",Q4=""),"DECIDE NOW; ","")&IF(AND(K4<>"",TODAY()>=K4,TODAY()<J4,OR(L4="",L4="Undecided"),Q4=""),"DECIDE SOON; ","")&IF(AND(N4<>"",OR(O4="",O4="No answer"),Q4="",L4<>"End",I4<>"",TODAY()>=N(I4)-'Settings'!$B$4),"FOLLOW UP - NO ANSWER; ","")&IF(AND(O4="Accepted",Q4=""),"ACCEPTED - NOT SIGNED; ","")&IF(AND(H4="",Q4=""),"ENTER NOTICE DAYS; ","")&IF(AND(Q4<>"",R4=""),"ENTER NEW END DATE; ",""))-2)))
I5: =IF(OR(E5="",H5=""),"",E5-H5) | J5: =IF(I5="","",I5-'Settings'!$B$2) | K5: =IF(J5="","",J5-'Settings'!$B$3) | S5: =IF(OR(E5="",Q5<>""),"",E5-TODAY()) | T5: =IF(E5="","",IF(Q5<>"","RENEWED",IF(L5="End","ENDING",IF(N5<>"","OFFER SENT",IF(AND(J5<>"",TODAY()>=J5),"DECIDE NOW","OK"))))) | U5: =IF(E5="","",IF(IF(AND(I5<>"",TODAY()>I5,N5="",Q5=""),"NOTICE DEADLINE PASSED - NOTHING SENT; ","")&IF(AND(TODAY()>E5,Q5="",L5<>"End"),"PAST END DATE - NOT RENEWED; ","")&IF(AND(J5<>"",TODAY()>=J5,OR(L5="",L5="Undecided"),N5="",Q5=""),"DECIDE NOW; ","")&IF(AND(K5<>"",TODAY()>=K5,TODAY()<J5,OR(L5="",L5="Undecided"),Q5=""),"DECIDE SOON; ","")&IF(AND(N5<>"",OR(O5="",O5="No answer"),Q5="",L5<>"End",I5<>"",TODAY()>=N(I5)-'Settings'!$B$4),"FOLLOW UP - NO ANSWER; ","")&IF(AND(O5="Accepted",Q5=""),"ACCEPTED - NOT SIGNED; ","")&IF(AND(H5="",Q5=""),"ENTER NOTICE DAYS; ","")&IF(AND(Q5<>"",R5=""),"ENTER NEW END DATE; ","")="","",LEFT(IF(AND(I5<>"",TODAY()>I5,N5="",Q5=""),"NOTICE DEADLINE PASSED - NOTHING SENT; ","")&IF(AND(TODAY()>E5,Q5="",L5<>"End"),"PAST END DATE - NOT RENEWED; ","")&IF(AND(J5<>"",TODAY()>=J5,OR(L5="",L5="Undecided"),N5="",Q5=""),"DECIDE NOW; ","")&IF(AND(K5<>"",TODAY()>=K5,TODAY()<J5,OR(L5="",L5="Undecided"),Q5=""),"DECIDE SOON; ","")&IF(AND(N5<>"",OR(O5="",O5="No answer"),Q5="",L5<>"End",I5<>"",TODAY()>=N(I5)-'Settings'!$B$4),"FOLLOW UP - NO ANSWER; ","")&IF(AND(O5="Accepted",Q5=""),"ACCEPTED - NOT SIGNED; ","")&IF(AND(H5="",Q5=""),"ENTER NOTICE DAYS; ","")&IF(AND(Q5<>"",R5=""),"ENTER NEW END DATE; ",""),LEN(IF(AND(I5<>"",TODAY()>I5,N5="",Q5=""),"NOTICE DEADLINE PASSED - NOTHING SENT; ","")&IF(AND(TODAY()>E5,Q5="",L5<>"End"),"PAST END DATE - NOT RENEWED; ","")&IF(AND(J5<>"",TODAY()>=J5,OR(L5="",L5="Undecided"),N5="",Q5=""),"DECIDE NOW; ","")&IF(AND(K5<>"",TODAY()>=K5,TODAY()<J5,OR(L5="",L5="Undecided"),Q5=""),"DECIDE SOON; ","")&IF(AND(N5<>"",OR(O5="",O5="No answer"),Q5="",L5<>"End",I5<>"",TODAY()>=N(I5)-'Settings'!$B$4),"FOLLOW UP - NO ANSWER; ","")&IF(AND(O5="Accepted",Q5=""),"ACCEPTED - NOT SIGNED; ","")&IF(AND(H5="",Q5=""),"ENTER NOTICE DAYS; ","")&IF(AND(Q5<>"",R5=""),"ENTER NEW END DATE; ",""))-2)))
I6: =IF(OR(E6="",H6=""),"",E6-H6) | J6: =IF(I6="","",I6-'Settings'!$B$2) | K6: =IF(J6="","",J6-'Settings'!$B$3) | S6: =IF(OR(E6="",Q6<>""),"",E6-TODAY()) | T6: =IF(E6="","",IF(Q6<>"","RENEWED",IF(L6="End","ENDING",IF(N6<>"","OFFER SENT",IF(AND(J6<>"",TODAY()>=J6),"DECIDE NOW","OK"))))) | U6: =IF(E6="","",IF(IF(AND(I6<>"",TODAY()>I6,N6="",Q6=""),"NOTICE DEADLINE PASSED - NOTHING SENT; ","")&IF(AND(TODAY()>E6,Q6="",L6<>"End"),"PAST END DATE - NOT RENEWED; ","")&IF(AND(J6<>"",TODAY()>=J6,OR(L6="",L6="Undecided"),N6="",Q6=""),"DECIDE NOW; ","")&IF(AND(K6<>"",TODAY()>=K6,TODAY()<J6,OR(L6="",L6="Undecided"),Q6=""),"DECIDE SOON; ","")&IF(AND(N6<>"",OR(O6="",O6="No answer"),Q6="",L6<>"End",I6<>"",TODAY()>=N(I6)-'Settings'!$B$4),"FOLLOW UP - NO ANSWER; ","")&IF(AND(O6="Accepted",Q6=""),"ACCEPTED - NOT SIGNED; ","")&IF(AND(H6="",Q6=""),"ENTER NOTICE DAYS; ","")&IF(AND(Q6<>"",R6=""),"ENTER NEW END DATE; ","")="","",LEFT(IF(AND(I6<>"",TODAY()>I6,N6="",Q6=""),"NOTICE DEADLINE PASSED - NOTHING SENT; ","")&IF(AND(TODAY()>E6,Q6="",L6<>"End"),"PAST END DATE - NOT RENEWED; ","")&IF(AND(J6<>"",TODAY()>=J6,OR(L6="",L6="Undecided"),N6="",Q6=""),"DECIDE NOW; ","")&IF(AND(K6<>"",TODAY()>=K6,TODAY()<J6,OR(L6="",L6="Undecided"),Q6=""),"DECIDE SOON; ","")&IF(AND(N6<>"",OR(O6="",O6="No answer"),Q6="",L6<>"End",I6<>"",TODAY()>=N(I6)-'Settings'!$B$4),"FOLLOW UP - NO ANSWER; ","")&IF(AND(O6="Accepted",Q6=""),"ACCEPTED - NOT SIGNED; ","")&IF(AND(H6="",Q6=""),"ENTER NOTICE DAYS; ","")&IF(AND(Q6<>"",R6=""),"ENTER NEW END DATE; ",""),LEN(IF(AND(I6<>"",TODAY()>I6,N6="",Q6=""),"NOTICE DEADLINE PASSED - NOTHING SENT; ","")&IF(AND(TODAY()>E6,Q6="",L6<>"End"),"PAST END DATE - NOT RENEWED; ","")&IF(AND(J6<>"",TODAY()>=J6,OR(L6="",L6="Undecided"),N6="",Q6=""),"DECIDE NOW; ","")&IF(AND(K6<>"",TODAY()>=K6,TODAY()<J6,OR(L6="",L6="Undecided"),Q6=""),"DECIDE SOON; ","")&IF(AND(N6<>"",OR(O6="",O6="No answer"),Q6="",L6<>"End",I6<>"",TODAY()>=N(I6)-'Settings'!$B$4),"FOLLOW UP - NO ANSWER; ","")&IF(AND(O6="Accepted",Q6=""),"ACCEPTED - NOT SIGNED; ","")&IF(AND(H6="",Q6=""),"ENTER NOTICE DAYS; ","")&IF(AND(Q6<>"",R6=""),"ENTER NEW END DATE; ",""))-2)))
I7: =IF(OR(E7="",H7=""),"",E7-H7) | J7: =IF(I7="","",I7-'Settings'!$B$2) | K7: =IF(J7="","",J7-'Settings'!$B$3) | S7: =IF(OR(E7="",Q7<>""),"",E7-TODAY()) | T7: =IF(E7="","",IF(Q7<>"","RENEWED",IF(L7="End","ENDING",IF(N7<>"","OFFER SENT",IF(AND(J7<>"",TODAY()>=J7),"DECIDE NOW","OK"))))) | U7: =IF(E7="","",IF(IF(AND(I7<>"",TODAY()>I7,N7="",Q7=""),"NOTICE DEADLINE PASSED - NOTHING SENT; ","")&IF(AND(TODAY()>E7,Q7="",L7<>"End"),"PAST END DATE - NOT RENEWED; ","")&IF(AND(J7<>"",TODAY()>=J7,OR(L7="",L7="Undecided"),N7="",Q7=""),"DECIDE NOW; ","")&IF(AND(K7<>"",TODAY()>=K7,TODAY()<J7,OR(L7="",L7="Undecided"),Q7=""),"DECIDE SOON; ","")&IF(AND(N7<>"",OR(O7="",O7="No answer"),Q7="",L7<>"End",I7<>"",TODAY()>=N(I7)-'Settings'!$B$4),"FOLLOW UP - NO ANSWER; ","")&IF(AND(O7="Accepted",Q7=""),"ACCEPTED - NOT SIGNED; ","")&IF(AND(H7="",Q7=""),"ENTER NOTICE DAYS; ","")&IF(AND(Q7<>"",R7=""),"ENTER NEW END DATE; ","")="","",LEFT(IF(AND(I7<>"",TODAY()>I7,N7="",Q7=""),"NOTICE DEADLINE PASSED - NOTHING SENT; ","")&IF(AND(TODAY()>E7,Q7="",L7<>"End"),"PAST END DATE - NOT RENEWED; ","")&IF(AND(J7<>"",TODAY()>=J7,OR(L7="",L7="Undecided"),N7="",Q7=""),"DECIDE NOW; ","")&IF(AND(K7<>"",TODAY()>=K7,TODAY()<J7,OR(L7="",L7="Undecided"),Q7=""),"DECIDE SOON; ","")&IF(AND(N7<>"",OR(O7="",O7="No answer"),Q7="",L7<>"End",I7<>"",TODAY()>=N(I7)-'Settings'!$B$4),"FOLLOW UP - NO ANSWER; ","")&IF(AND(O7="Accepted",Q7=""),"ACCEPTED - NOT SIGNED; ","")&IF(AND(H7="",Q7=""),"ENTER NOTICE DAYS; ","")&IF(AND(Q7<>"",R7=""),"ENTER NEW END DATE; ",""),LEN(IF(AND(I7<>"",TODAY()>I7,N7="",Q7=""),"NOTICE DEADLINE PASSED - NOTHING SENT; ","")&IF(AND(TODAY()>E7,Q7="",L7<>"End"),"PAST END DATE - NOT RENEWED; ","")&IF(AND(J7<>"",TODAY()>=J7,OR(L7="",L7="Undecided"),N7="",Q7=""),"DECIDE NOW; ","")&IF(AND(K7<>"",TODAY()>=K7,TODAY()<J7,OR(L7="",L7="Undecided"),Q7=""),"DECIDE SOON; ","")&IF(AND(N7<>"",OR(O7="",O7="No answer"),Q7="",L7<>"End",I7<>"",TODAY()>=N(I7)-'Settings'!$B$4),"FOLLOW UP - NO ANSWER; ","")&IF(AND(O7="Accepted",Q7=""),"ACCEPTED - NOT SIGNED; ","")&IF(AND(H7="",Q7=""),"ENTER NOTICE DAYS; ","")&IF(AND(Q7<>"",R7=""),"ENTER NEW END DATE; ",""))-2)))
I8: =IF(OR(E8="",H8=""),"",E8-H8) | J8: =IF(I8="","",I8-'Settings'!$B$2) | K8: =IF(J8="","",J8-'Settings'!$B$3) | S8: =IF(OR(E8="",Q8<>""),"",E8-TODAY()) | T8: =IF(E8="","",IF(Q8<>"","RENEWED",IF(L8="End","ENDING",IF(N8<>"","OFFER SENT",IF(AND(J8<>"",TODAY()>=J8),"DECIDE NOW","OK"))))) | U8: =IF(E8="","",IF(IF(AND(I8<>"",TODAY()>I8,N8="",Q8=""),"NOTICE DEADLINE PASSED - NOTHING SENT; ","")&IF(AND(TODAY()>E8,Q8="",L8<>"End"),"PAST END DATE - NOT RENEWED; ","")&IF(AND(J8<>"",TODAY()>=J8,OR(L8="",L8="Undecided"),N8="",Q8=""),"DECIDE NOW; ","")&IF(AND(K8<>"",TODAY()>=K8,TODAY()<J8,OR(L8="",L8="Undecided"),Q8=""),"DECIDE SOON; ","")&IF(AND(N8<>"",OR(O8="",O8="No answer"),Q8="",L8<>"End",I8<>"",TODAY()>=N(I8)-'Settings'!$B$4),"FOLLOW UP - NO ANSWER; ","")&IF(AND(O8="Accepted",Q8=""),"ACCEPTED - NOT SIGNED; ","")&IF(AND(H8="",Q8=""),"ENTER NOTICE DAYS; ","")&IF(AND(Q8<>"",R8=""),"ENTER NEW END DATE; ","")="","",LEFT(IF(AND(I8<>"",TODAY()>I8,N8="",Q8=""),"NOTICE DEADLINE PASSED - NOTHING SENT; ","")&IF(AND(TODAY()>E8,Q8="",L8<>"End"),"PAST END DATE - NOT RENEWED; ","")&IF(AND(J8<>"",TODAY()>=J8,OR(L8="",L8="Undecided"),N8="",Q8=""),"DECIDE NOW; ","")&IF(AND(K8<>"",TODAY()>=K8,TODAY()<J8,OR(L8="",L8="Undecided"),Q8=""),"DECIDE SOON; ","")&IF(AND(N8<>"",OR(O8="",O8="No answer"),Q8="",L8<>"End",I8<>"",TODAY()>=N(I8)-'Settings'!$B$4),"FOLLOW UP - NO ANSWER; ","")&IF(AND(O8="Accepted",Q8=""),"ACCEPTED - NOT SIGNED; ","")&IF(AND(H8="",Q8=""),"ENTER NOTICE DAYS; ","")&IF(AND(Q8<>"",R8=""),"ENTER NEW END DATE; ",""),LEN(IF(AND(I8<>"",TODAY()>I8,N8="",Q8=""),"NOTICE DEADLINE PASSED - NOTHING SENT; ","")&IF(AND(TODAY()>E8,Q8="",L8<>"End"),"PAST END DATE - NOT RENEWED; ","")&IF(AND(J8<>"",TODAY()>=J8,OR(L8="",L8="Undecided"),N8="",Q8=""),"DECIDE NOW; ","")&IF(AND(K8<>"",TODAY()>=K8,TODAY()<J8,OR(L8="",L8="Undecided"),Q8=""),"DECIDE SOON; ","")&IF(AND(N8<>"",OR(O8="",O8="No answer"),Q8="",L8<>"End",I8<>"",TODAY()>=N(I8)-'Settings'!$B$4),"FOLLOW UP - NO ANSWER; ","")&IF(AND(O8="Accepted",Q8=""),"ACCEPTED - NOT SIGNED; ","")&IF(AND(H8="",Q8=""),"ENTER NOTICE DAYS; ","")&IF(AND(Q8<>"",R8=""),"ENTER NEW END DATE; ",""))-2)))
I9: =IF(OR(E9="",H9=""),"",E9-H9) | J9: =IF(I9="","",I9-'Settings'!$B$2) | K9: =IF(J9="","",J9-'Settings'!$B$3) | S9: =IF(OR(E9="",Q9<>""),"",E9-TODAY()) | T9: =IF(E9="","",IF(Q9<>"","RENEWED",IF(L9="End","ENDING",IF(N9<>"","OFFER SENT",IF(AND(J9<>"",TODAY()>=J9),"DECIDE NOW","OK"))))) | U9: =IF(E9="","",IF(IF(AND(I9<>"",TODAY()>I9,N9="",Q9=""),"NOTICE DEADLINE PASSED - NOTHING SENT; ","")&IF(AND(TODAY()>E9,Q9="",L9<>"End"),"PAST END DATE - NOT RENEWED; ","")&IF(AND(J9<>"",TODAY()>=J9,OR(L9="",L9="Undecided"),N9="",Q9=""),"DECIDE NOW; ","")&IF(AND(K9<>"",TODAY()>=K9,TODAY()<J9,OR(L9="",L9="Undecided"),Q9=""),"DECIDE SOON; ","")&IF(AND(N9<>"",OR(O9="",O9="No answer"),Q9="",L9<>"End",I9<>"",TODAY()>=N(I9)-'Settings'!$B$4),"FOLLOW UP - NO ANSWER; ","")&IF(AND(O9="Accepted",Q9=""),"ACCEPTED - NOT SIGNED; ","")&IF(AND(H9="",Q9=""),"ENTER NOTICE DAYS; ","")&IF(AND(Q9<>"",R9=""),"ENTER NEW END DATE; ","")="","",LEFT(IF(AND(I9<>"",TODAY()>I9,N9="",Q9=""),"NOTICE DEADLINE PASSED - NOTHING SENT; ","")&IF(AND(TODAY()>E9,Q9="",L9<>"End"),"PAST END DATE - NOT RENEWED; ","")&IF(AND(J9<>"",TODAY()>=J9,OR(L9="",L9="Undecided"),N9="",Q9=""),"DECIDE NOW; ","")&IF(AND(K9<>"",TODAY()>=K9,TODAY()<J9,OR(L9="",L9="Undecided"),Q9=""),"DECIDE SOON; ","")&IF(AND(N9<>"",OR(O9="",O9="No answer"),Q9="",L9<>"End",I9<>"",TODAY()>=N(I9)-'Settings'!$B$4),"FOLLOW UP - NO ANSWER; ","")&IF(AND(O9="Accepted",Q9=""),"ACCEPTED - NOT SIGNED; ","")&IF(AND(H9="",Q9=""),"ENTER NOTICE DAYS; ","")&IF(AND(Q9<>"",R9=""),"ENTER NEW END DATE; ",""),LEN(IF(AND(I9<>"",TODAY()>I9,N9="",Q9=""),"NOTICE DEADLINE PASSED - NOTHING SENT; ","")&IF(AND(TODAY()>E9,Q9="",L9<>"End"),"PAST END DATE - NOT RENEWED; ","")&IF(AND(J9<>"",TODAY()>=J9,OR(L9="",L9="Undecided"),N9="",Q9=""),"DECIDE NOW; ","")&IF(AND(K9<>"",TODAY()>=K9,TODAY()<J9,OR(L9="",L9="Undecided"),Q9=""),"DECIDE SOON; ","")&IF(AND(N9<>"",OR(O9="",O9="No answer"),Q9="",L9<>"End",I9<>"",TODAY()>=N(I9)-'Settings'!$B$4),"FOLLOW UP - NO ANSWER; ","")&IF(AND(O9="Accepted",Q9=""),"ACCEPTED - NOT SIGNED; ","")&IF(AND(H9="",Q9=""),"ENTER NOTICE DAYS; ","")&IF(AND(Q9<>"",R9=""),"ENTER NEW END DATE; ",""))-2)))
I10: =IF(OR(E10="",H10=""),"",E10-H10) | J10: =IF(I10="","",I10-'Settings'!$B$2) | K10: =IF(J10="","",J10-'Settings'!$B$3) | S10: =IF(OR(E10="",Q10<>""),"",E10-TODAY()) | T10: =IF(E10="","",IF(Q10<>"","RENEWED",IF(L10="End","ENDING",IF(N10<>"","OFFER SENT",IF(AND(J10<>"",TODAY()>=J10),"DECIDE NOW","OK"))))) | U10: =IF(E10="","",IF(IF(AND(I10<>"",TODAY()>I10,N10="",Q10=""),"NOTICE DEADLINE PASSED - NOTHING SENT; ","")&IF(AND(TODAY()>E10,Q10="",L10<>"End"),"PAST END DATE - NOT RENEWED; ","")&IF(AND(J10<>"",TODAY()>=J10,OR(L10="",L10="Undecided"),N10="",Q10=""),"DECIDE NOW; ","")&IF(AND(K10<>"",TODAY()>=K10,TODAY()<J10,OR(L10="",L10="Undecided"),Q10=""),"DECIDE SOON; ","")&IF(AND(N10<>"",OR(O10="",O10="No answer"),Q10="",L10<>"End",I10<>"",TODAY()>=N(I10)-'Settings'!$B$4),"FOLLOW UP - NO ANSWER; ","")&IF(AND(O10="Accepted",Q10=""),"ACCEPTED - NOT SIGNED; ","")&IF(AND(H10="",Q10=""),"ENTER NOTICE DAYS; ","")&IF(AND(Q10<>"",R10=""),"ENTER NEW END DATE; ","")="","",LEFT(IF(AND(I10<>"",TODAY()>I10,N10="",Q10=""),"NOTICE DEADLINE PASSED - NOTHING SENT; ","")&IF(AND(TODAY()>E10,Q10="",L10<>"End"),"PAST END DATE - NOT RENEWED; ","")&IF(AND(J10<>"",TODAY()>=J10,OR(L10="",L10="Undecided"),N10="",Q10=""),"DECIDE NOW; ","")&IF(AND(K10<>"",TODAY()>=K10,TODAY()<J10,OR(L10="",L10="Undecided"),Q10=""),"DECIDE SOON; ","")&IF(AND(N10<>"",OR(O10="",O10="No answer"),Q10="",L10<>"End",I10<>"",TODAY()>=N(I10)-'Settings'!$B$4),"FOLLOW UP - NO ANSWER; ","")&IF(AND(O10="Accepted",Q10=""),"ACCEPTED - NOT SIGNED; ","")&IF(AND(H10="",Q10=""),"ENTER NOTICE DAYS; ","")&IF(AND(Q10<>"",R10=""),"ENTER NEW END DATE; ",""),LEN(IF(AND(I10<>"",TODAY()>I10,N10="",Q10=""),"NOTICE DEADLINE PASSED - NOTHING SENT; ","")&IF(AND(TODAY()>E10,Q10="",L10<>"End"),"PAST END DATE - NOT RENEWED; ","")&IF(AND(J10<>"",TODAY()>=J10,OR(L10="",L10="Undecided"),N10="",Q10=""),"DECIDE NOW; ","")&IF(AND(K10<>"",TODAY()>=K10,TODAY()<J10,OR(L10="",L10="Undecided"),Q10=""),"DECIDE SOON; ","")&IF(AND(N10<>"",OR(O10="",O10="No answer"),Q10="",L10<>"End",I10<>"",TODAY()>=N(I10)-'Settings'!$B$4),"FOLLOW UP - NO ANSWER; ","")&IF(AND(O10="Accepted",Q10=""),"ACCEPTED - NOT SIGNED; ","")&IF(AND(H10="",Q10=""),"ENTER NOTICE DAYS; ","")&IF(AND(Q10<>"",R10=""),"ENTER NEW END DATE; ",""))-2)))
I11: =IF(OR(E11="",H11=""),"",E11-H11) | J11: =IF(I11="","",I11-'Settings'!$B$2) | K11: =IF(J11="","",J11-'Settings'!$B$3) | S11: =IF(OR(E11="",Q11<>""),"",E11-TODAY()) | T11: =IF(E11="","",IF(Q11<>"","RENEWED",IF(L11="End","ENDING",IF(N11<>"","OFFER SENT",IF(AND(J11<>"",TODAY()>=J11),"DECIDE NOW","OK"))))) | U11: =IF(E11="","",IF(IF(AND(I11<>"",TODAY()>I11,N11="",Q11=""),"NOTICE DEADLINE PASSED - NOTHING SENT; ","")&IF(AND(TODAY()>E11,Q11="",L11<>"End"),"PAST END DATE - NOT RENEWED; ","")&IF(AND(J11<>"",TODAY()>=J11,OR(L11="",L11="Undecided"),N11="",Q11=""),"DECIDE NOW; ","")&IF(AND(K11<>"",TODAY()>=K11,TODAY()<J11,OR(L11="",L11="Undecided"),Q11=""),"DECIDE SOON; ","")&IF(AND(N11<>"",OR(O11="",O11="No answer"),Q11="",L11<>"End",I11<>"",TODAY()>=N(I11)-'Settings'!$B$4),"FOLLOW UP - NO ANSWER; ","")&IF(AND(O11="Accepted",Q11=""),"ACCEPTED - NOT SIGNED; ","")&IF(AND(H11="",Q11=""),"ENTER NOTICE DAYS; ","")&IF(AND(Q11<>"",R11=""),"ENTER NEW END DATE; ","")="","",LEFT(IF(AND(I11<>"",TODAY()>I11,N11="",Q11=""),"NOTICE DEADLINE PASSED - NOTHING SENT; ","")&IF(AND(TODAY()>E11,Q11="",L11<>"End"),"PAST END DATE - NOT RENEWED; ","")&IF(AND(J11<>"",TODAY()>=J11,OR(L11="",L11="Undecided"),N11="",Q11=""),"DECIDE NOW; ","")&IF(AND(K11<>"",TODAY()>=K11,TODAY()<J11,OR(L11="",L11="Undecided"),Q11=""),"DECIDE SOON; ","")&IF(AND(N11<>"",OR(O11="",O11="No answer"),Q11="",L11<>"End",I11<>"",TODAY()>=N(I11)-'Settings'!$B$4),"FOLLOW UP - NO ANSWER; ","")&IF(AND(O11="Accepted",Q11=""),"ACCEPTED - NOT SIGNED; ","")&IF(AND(H11="",Q11=""),"ENTER NOTICE DAYS; ","")&IF(AND(Q11<>"",R11=""),"ENTER NEW END DATE; ",""),LEN(IF(AND(I11<>"",TODAY()>I11,N11="",Q11=""),"NOTICE DEADLINE PASSED - NOTHING SENT; ","")&IF(AND(TODAY()>E11,Q11="",L11<>"End"),"PAST END DATE - NOT RENEWED; ","")&IF(AND(J11<>"",TODAY()>=J11,OR(L11="",L11="Undecided"),N11="",Q11=""),"DECIDE NOW; ","")&IF(AND(K11<>"",TODAY()>=K11,TODAY()<J11,OR(L11="",L11="Undecided"),Q11=""),"DECIDE SOON; ","")&IF(AND(N11<>"",OR(O11="",O11="No answer"),Q11="",L11<>"End",I11<>"",TODAY()>=N(I11)-'Settings'!$B$4),"FOLLOW UP - NO ANSWER; ","")&IF(AND(O11="Accepted",Q11=""),"ACCEPTED - NOT SIGNED; ","")&IF(AND(H11="",Q11=""),"ENTER NOTICE DAYS; ","")&IF(AND(Q11<>"",R11=""),"ENTER NEW END DATE; ",""))-2)))
I12: =IF(OR(E12="",H12=""),"",E12-H12) | J12: =IF(I12="","",I12-'Settings'!$B$2) | K12: =IF(J12="","",J12-'Settings'!$B$3) | S12: =IF(OR(E12="",Q12<>""),"",E12-TODAY()) | T12: =IF(E12="","",IF(Q12<>"","RENEWED",IF(L12="End","ENDING",IF(N12<>"","OFFER SENT",IF(AND(J12<>"",TODAY()>=J12),"DECIDE NOW","OK"))))) | U12: =IF(E12="","",IF(IF(AND(I12<>"",TODAY()>I12,N12="",Q12=""),"NOTICE DEADLINE PASSED - NOTHING SENT; ","")&IF(AND(TODAY()>E12,Q12="",L12<>"End"),"PAST END DATE - NOT RENEWED; ","")&IF(AND(J12<>"",TODAY()>=J12,OR(L12="",L12="Undecided"),N12="",Q12=""),"DECIDE NOW; ","")&IF(AND(K12<>"",TODAY()>=K12,TODAY()<J12,OR(L12="",L12="Undecided"),Q12=""),"DECIDE SOON; ","")&IF(AND(N12<>"",OR(O12="",O12="No answer"),Q12="",L12<>"End",I12<>"",TODAY()>=N(I12)-'Settings'!$B$4),"FOLLOW UP - NO ANSWER; ","")&IF(AND(O12="Accepted",Q12=""),"ACCEPTED - NOT SIGNED; ","")&IF(AND(H12="",Q12=""),"ENTER NOTICE DAYS; ","")&IF(AND(Q12<>"",R12=""),"ENTER NEW END DATE; ","")="","",LEFT(IF(AND(I12<>"",TODAY()>I12,N12="",Q12=""),"NOTICE DEADLINE PASSED - NOTHING SENT; ","")&IF(AND(TODAY()>E12,Q12="",L12<>"End"),"PAST END DATE - NOT RENEWED; ","")&IF(AND(J12<>"",TODAY()>=J12,OR(L12="",L12="Undecided"),N12="",Q12=""),"DECIDE NOW; ","")&IF(AND(K12<>"",TODAY()>=K12,TODAY()<J12,OR(L12="",L12="Undecided"),Q12=""),"DECIDE SOON; ","")&IF(AND(N12<>"",OR(O12="",O12="No answer"),Q12="",L12<>"End",I12<>"",TODAY()>=N(I12)-'Settings'!$B$4),"FOLLOW UP - NO ANSWER; ","")&IF(AND(O12="Accepted",Q12=""),"ACCEPTED - NOT SIGNED; ","")&IF(AND(H12="",Q12=""),"ENTER NOTICE DAYS; ","")&IF(AND(Q12<>"",R12=""),"ENTER NEW END DATE; ",""),LEN(IF(AND(I12<>"",TODAY()>I12,N12="",Q12=""),"NOTICE DEADLINE PASSED - NOTHING SENT; ","")&IF(AND(TODAY()>E12,Q12="",L12<>"End"),"PAST END DATE - NOT RENEWED; ","")&IF(AND(J12<>"",TODAY()>=J12,OR(L12="",L12="Undecided"),N12="",Q12=""),"DECIDE NOW; ","")&IF(AND(K12<>"",TODAY()>=K12,TODAY()<J12,OR(L12="",L12="Undecided"),Q12=""),"DECIDE SOON; ","")&IF(AND(N12<>"",OR(O12="",O12="No answer"),Q12="",L12<>"End",I12<>"",TODAY()>=N(I12)-'Settings'!$B$4),"FOLLOW UP - NO ANSWER; ","")&IF(AND(O12="Accepted",Q12=""),"ACCEPTED - NOT SIGNED; ","")&IF(AND(H12="",Q12=""),"ENTER NOTICE DAYS; ","")&IF(AND(Q12<>"",R12=""),"ENTER NEW END DATE; ",""))-2)))
I13: =IF(OR(E13="",H13=""),"",E13-H13) | J13: =IF(I13="","",I13-'Settings'!$B$2) | K13: =IF(J13="","",J13-'Settings'!$B$3) | S13: =IF(OR(E13="",Q13<>""),"",E13-TODAY()) | T13: =IF(E13="","",IF(Q13<>"","RENEWED",IF(L13="End","ENDING",IF(N13<>"","OFFER SENT",IF(AND(J13<>"",TODAY()>=J13),"DECIDE NOW","OK"))))) | U13: =IF(E13="","",IF(IF(AND(I13<>"",TODAY()>I13,N13="",Q13=""),"NOTICE DEADLINE PASSED - NOTHING SENT; ","")&IF(AND(TODAY()>E13,Q13="",L13<>"End"),"PAST END DATE - NOT RENEWED; ","")&IF(AND(J13<>"",TODAY()>=J13,OR(L13="",L13="Undecided"),N13="",Q13=""),"DECIDE NOW; ","")&IF(AND(K13<>"",TODAY()>=K13,TODAY()<J13,OR(L13="",L13="Undecided"),Q13=""),"DECIDE SOON; ","")&IF(AND(N13<>"",OR(O13="",O13="No answer"),Q13="",L13<>"End",I13<>"",TODAY()>=N(I13)-'Settings'!$B$4),"FOLLOW UP - NO ANSWER; ","")&IF(AND(O13="Accepted",Q13=""),"ACCEPTED - NOT SIGNED; ","")&IF(AND(H13="",Q13=""),"ENTER NOTICE DAYS; ","")&IF(AND(Q13<>"",R13=""),"ENTER NEW END DATE; ","")="","",LEFT(IF(AND(I13<>"",TODAY()>I13,N13="",Q13=""),"NOTICE DEADLINE PASSED - NOTHING SENT; ","")&IF(AND(TODAY()>E13,Q13="",L13<>"End"),"PAST END DATE - NOT RENEWED; ","")&IF(AND(J13<>"",TODAY()>=J13,OR(L13="",L13="Undecided"),N13="",Q13=""),"DECIDE NOW; ","")&IF(AND(K13<>"",TODAY()>=K13,TODAY()<J13,OR(L13="",L13="Undecided"),Q13=""),"DECIDE SOON; ","")&IF(AND(N13<>"",OR(O13="",O13="No answer"),Q13="",L13<>"End",I13<>"",TODAY()>=N(I13)-'Settings'!$B$4),"FOLLOW UP - NO ANSWER; ","")&IF(AND(O13="Accepted",Q13=""),"ACCEPTED - NOT SIGNED; ","")&IF(AND(H13="",Q13=""),"ENTER NOTICE DAYS; ","")&IF(AND(Q13<>"",R13=""),"ENTER NEW END DATE; ",""),LEN(IF(AND(I13<>"",TODAY()>I13,N13="",Q13=""),"NOTICE DEADLINE PASSED - NOTHING SENT; ","")&IF(AND(TODAY()>E13,Q13="",L13<>"End"),"PAST END DATE - NOT RENEWED; ","")&IF(AND(J13<>"",TODAY()>=J13,OR(L13="",L13="Undecided"),N13="",Q13=""),"DECIDE NOW; ","")&IF(AND(K13<>"",TODAY()>=K13,TODAY()<J13,OR(L13="",L13="Undecided"),Q13=""),"DECIDE SOON; ","")&IF(AND(N13<>"",OR(O13="",O13="No answer"),Q13="",L13<>"End",I13<>"",TODAY()>=N(I13)-'Settings'!$B$4),"FOLLOW UP - NO ANSWER; ","")&IF(AND(O13="Accepted",Q13=""),"ACCEPTED - NOT SIGNED; ","")&IF(AND(H13="",Q13=""),"ENTER NOTICE DAYS; ","")&IF(AND(Q13<>"",R13=""),"ENTER NEW END DATE; ",""))-2)))
... I300: =IF(OR(E300="",H300=""),"",E300-H300) | J300: =IF(I300="","",I300-'Settings'!$B$2) | K300: =IF(J300="","",J300-'Settings'!$B$3) | S300: =IF(OR(E300="",Q300<>""),"",E300-TODAY()) | T300: =IF(E300="","",IF(Q300<>"","RENEWED",IF(L300="End","ENDING",IF(N300<>"","OFFER SENT",IF(AND(J300<>"",TODAY()>=J300),"DECIDE NOW","OK"))))) | U300: =IF(E300="","",IF(IF(AND(I300<>"",TODAY()>I300,N300="",Q300=""),"NOTICE DEADLINE PASSED - NOTHING SENT; ","")&IF(AND(TODAY()>E300,Q300="",L300<>"End"),"PAST END DATE - NOT RENEWED; ","")&IF(AND(J300<>"",TODAY()>=J300,OR(L300="",L300="Undecided"),N300="",Q300=""),"DECIDE NOW; ","")&IF(AND(K300<>"",TODAY()>=K300,TODAY()<J300,OR(L300="",L300="Undecided"),Q300=""),"DECIDE SOON; ","")&IF(AND(N300<>"",OR(O300="",O300="No answer"),Q300="",L300<>"End",I300<>"",TODAY()>=N(I300)-'Settings'!$B$4),"FOLLOW UP - NO ANSWER; ","")&IF(AND(O300="Accepted",Q300=""),"ACCEPTED - NOT SIGNED; ","")&IF(AND(H300="",Q300=""),"ENTER NOTICE DAYS; ","")&IF(AND(Q300<>"",R300=""),"ENTER NEW END DATE; ","")="","",LEFT(IF(AND(I300<>"",TODAY()>I300,N300="",Q300=""),"NOTICE DEADLINE PASSED - NOTHING SENT; ","")&IF(AND(TODAY()>E300,Q300="",L300<>"End"),"PAST END DATE - NOT RENEWED; ","")&IF(AND(J300<>"",TODAY()>=J300,OR(L300="",L300="Undecided"),N300="",Q300=""),"DECIDE NOW; ","")&IF(AND(K300<>"",TODAY()>=K300,TODAY()<J300,OR(L300="",L300="Undecided"),Q300=""),"DECIDE SOON; ","")&IF(AND(N300<>"",OR(O300="",O300="No answer"),Q300="",L300<>"End",I300<>"",TODAY()>=N(I300)-'Settings'!$B$4),"FOLLOW UP - NO ANSWER; ","")&IF(AND(O300="Accepted",Q300=""),"ACCEPTED - NOT SIGNED; ","")&IF(AND(H300="",Q300=""),"ENTER NOTICE DAYS; ","")&IF(AND(Q300<>"",R300=""),"ENTER NEW END DATE; ",""),LEN(IF(AND(I300<>"",TODAY()>I300,N300="",Q300=""),"NOTICE DEADLINE PASSED - NOTHING SENT; ","")&IF(AND(TODAY()>E300,Q300="",L300<>"End"),"PAST END DATE - NOT RENEWED; ","")&IF(AND(J300<>"",TODAY()>=J300,OR(L300="",L300="Undecided"),N300="",Q300=""),"DECIDE NOW; ","")&IF(AND(K300<>"",TODAY()>=K300,TODAY()<J300,OR(L300="",L300="Undecided"),Q300=""),"DECIDE SOON; ","")&IF(AND(N300<>"",OR(O300="",O300="No answer"),Q300="",L300<>"End",I300<>"",TODAY()>=N(I300)-'Settings'!$B$4),"FOLLOW UP - NO ANSWER; ","")&IF(AND(O300="Accepted",Q300=""),"ACCEPTED - NOT SIGNED; ","")&IF(AND(H300="",Q300=""),"ENTER NOTICE DAYS; ","")&IF(AND(Q300<>"",R300=""),"ENTER NEW END DATE; ",""))-2)))

Sheet Settings
A1: Settings
A2: Decision lead time: days before the notice deadline you want to decide (renew, change rent, or end) | B2: 30
A3: Reminder lead time: days before the decision date you want a heads-up | B3: 14
A4: Follow-up window: flag an unanswered offer once the notice deadline is this many days away | B4: 14
A6: Edit column B to fit how you work. The notice period itself comes from each lease, entered per row on the Leases sheet.
